Package: immunotation Version: 1.17.5 Command: /Library/Frameworks/R.framework/Resources/bin/R CMD build --keep-empty-dirs --no-resave-data immunotation StartedAt: 2025-10-03 16:45:40 -0400 (Fri, 03 Oct 2025) EndedAt: 2025-10-03 16:48:55 -0400 (Fri, 03 Oct 2025) EllapsedTime: 195.2 seconds RetCode: 0 Status: OK PackageFile: immunotation_1.17.5.tar.gz PackageFileSize: 2.222 MiB