Package: immunotation Version: 1.17.5 Command: rm -rf immunotation.buildbin-libdir && mkdir immunotation.buildbin-libdir && /Users/biocbuild/BBS/utils/build-universal.sh immunotation_1.17.5.tar.gz /Library/Frameworks/R.framework/Resources/bin/R immunotation.buildbin-libdir StartedAt: 2025-10-03 22:42:57 -0400 (Fri, 03 Oct 2025) EndedAt: 2025-10-03 22:43:39 -0400 (Fri, 03 Oct 2025) EllapsedTime: 41.9 seconds RetCode: 0 Status: OK PackageFile: immunotation_1.17.5.tgz PackageFileSize: 4.224 MiB