Package: immunogenViewer Version: 1.3.1 Command: chmod a+r immunogenViewer -R && F:\biocbuild\bbs-3.22-bioc\R\bin\R.exe CMD build --keep-empty-dirs --no-resave-data immunogenViewer StartedAt: 2025-08-14 20:55:02 -0400 (Thu, 14 Aug 2025) EndedAt: 2025-08-14 20:56:21 -0400 (Thu, 14 Aug 2025) EllapsedTime: 79.7 seconds RetCode: 0 Status: OK PackageFile: immunogenViewer_1.3.1.tar.gz PackageFileSize: 468.8 KiB