Package: immunogenViewer Version: 1.3.1 Command: rm -rf immunogenViewer.buildbin-libdir && mkdir immunogenViewer.buildbin-libdir && F:\biocbuild\bbs-3.22-bioc\R\bin\R.exe CMD INSTALL --build --library=immunogenViewer.buildbin-libdir immunogenViewer_1.3.1.tar.gz StartedAt: 2025-08-15 10:30:19 -0400 (Fri, 15 Aug 2025) EndedAt: 2025-08-15 10:31:31 -0400 (Fri, 15 Aug 2025) EllapsedTime: 71.4 seconds RetCode: 0 Status: OK PackageFile: immunogenViewer_1.3.1.zip PackageFileSize: 485.2 KiB