Package: immunogenViewer Version: 1.5.0 Command: /home/biocbuild/bbs-3.23-bioc/R/bin/R CMD INSTALL immunogenViewer StartedAt: 2025-11-02 15:39:16 -0500 (Sun, 02 Nov 2025) EndedAt: 2025-11-02 15:39:31 -0500 (Sun, 02 Nov 2025) EllapsedTime: 14.6 seconds RetCode: 0 Status: OK