Package: immunogenViewer Version: 1.5.0 Command: /home/biocbuild/bbs-3.23-bioc/R/bin/R CMD check --install=check:immunogenViewer.install-out.txt --library=/home/biocbuild/bbs-3.23-bioc/R/site-library --timings immunogenViewer_1.5.0.tar.gz StartedAt: 2025-11-01 00:20:07 -0400 (Sat, 01 Nov 2025) EndedAt: 2025-11-01 00:22:49 -0400 (Sat, 01 Nov 2025) EllapsedTime: 162.2 seconds RetCode: 0 Status: OK CheckDir: immunogenViewer.Rcheck Warnings: 0