Package: immunogenViewer Version: 1.5.0 Command: /home/biocbuild/bbs-3.23-bioc/R/bin/R CMD build --keep-empty-dirs --no-resave-data immunogenViewer StartedAt: 2025-10-31 18:21:10 -0400 (Fri, 31 Oct 2025) EndedAt: 2025-10-31 18:22:04 -0400 (Fri, 31 Oct 2025) EllapsedTime: 54.0 seconds RetCode: 0 Status: OK PackageFile: immunogenViewer_1.5.0.tar.gz PackageFileSize: 569.4 KiB