Package: immunoClust Version: 1.43.0 Command: /Library/Frameworks/R.framework/Resources/bin/R CMD INSTALL immunoClust StartedAt: 2025-11-20 15:24:41 -0500 (Thu, 20 Nov 2025) EndedAt: 2025-11-20 15:25:21 -0500 (Thu, 20 Nov 2025) EllapsedTime: 39.9 seconds RetCode: 0 Status: OK