Package: immunoClust Version: 1.43.0 Command: /Library/Frameworks/R.framework/Resources/bin/R CMD build --keep-empty-dirs --no-resave-data immunoClust StartedAt: 2025-11-20 17:24:35 -0500 (Thu, 20 Nov 2025) EndedAt: 2025-11-20 17:28:05 -0500 (Thu, 20 Nov 2025) EllapsedTime: 209.7 seconds RetCode: 0 Status: OK PackageFile: immunoClust_1.43.0.tar.gz PackageFileSize: 2.502 MiB