Package: immunoClust Version: 1.43.0 Command: /Library/Frameworks/R.framework/Resources/bin/R CMD INSTALL immunoClust StartedAt: 2025-11-21 15:07:28 -0500 (Fri, 21 Nov 2025) EndedAt: 2025-11-21 15:07:38 -0500 (Fri, 21 Nov 2025) EllapsedTime: 9.9 seconds RetCode: 0 Status: OK