Package: immunoClust Version: 1.43.0 Command: /Library/Frameworks/R.framework/Resources/bin/R CMD build --keep-empty-dirs --no-resave-data immunoClust StartedAt: 2025-11-21 16:41:36 -0500 (Fri, 21 Nov 2025) EndedAt: 2025-11-21 16:43:19 -0500 (Fri, 21 Nov 2025) EllapsedTime: 103.1 seconds RetCode: 0 Status: OK PackageFile: immunoClust_1.43.0.tar.gz PackageFileSize: 2.505 MiB