Package: immunoClust Version: 1.43.0 Command: rm -rf immunoClust.buildbin-libdir && mkdir immunoClust.buildbin-libdir && /Users/biocbuild/BBS/utils/build-universal.sh immunoClust_1.43.0.tar.gz /Library/Frameworks/R.framework/Resources/bin/R immunoClust.buildbin-libdir StartedAt: 2025-11-21 23:36:28 -0500 (Fri, 21 Nov 2025) EndedAt: 2025-11-21 23:36:42 -0500 (Fri, 21 Nov 2025) EllapsedTime: 14.3 seconds RetCode: 0 Status: OK PackageFile: immunoClust_1.43.0.tgz PackageFileSize: 3.289 MiB