Package: immApex Version: 1.5.0 Command: /home/biocbuild/bbs-3.23-bioc/R/bin/R CMD INSTALL immApex StartedAt: 2025-11-20 15:22:30 -0500 (Thu, 20 Nov 2025) EndedAt: 2025-11-20 15:23:10 -0500 (Thu, 20 Nov 2025) EllapsedTime: 39.6 seconds RetCode: 0 Status: OK