Package: immApex Version: 1.5.0 Command: /Library/Frameworks/R.framework/Resources/bin/R CMD INSTALL immApex StartedAt: 2025-11-20 15:29:08 -0500 (Thu, 20 Nov 2025) EndedAt: 2025-11-20 15:29:58 -0500 (Thu, 20 Nov 2025) EllapsedTime: 49.2 seconds RetCode: 0 Status: OK