Package: immApex Version: 1.5.0 Command: /Library/Frameworks/R.framework/Resources/bin/R CMD build --keep-empty-dirs --no-resave-data immApex StartedAt: 2025-11-20 17:24:34 -0500 (Thu, 20 Nov 2025) EndedAt: 2025-11-20 17:27:09 -0500 (Thu, 20 Nov 2025) EllapsedTime: 154.9 seconds RetCode: 0 Status: OK PackageFile: immApex_1.5.0.tar.gz PackageFileSize: 2.405 MiB