Package: immApex Version: 1.5.0 Command: rm -rf immApex.buildbin-libdir && mkdir immApex.buildbin-libdir && /Users/biocbuild/BBS/utils/build-universal.sh immApex_1.5.0.tar.gz /Library/Frameworks/R.framework/Resources/bin/R immApex.buildbin-libdir StartedAt: 2025-11-21 01:39:00 -0500 (Fri, 21 Nov 2025) EndedAt: 2025-11-21 01:39:57 -0500 (Fri, 21 Nov 2025) EllapsedTime: 56.8 seconds RetCode: 0 Status: OK PackageFile: immApex_1.5.0.tgz PackageFileSize: 2.458 MiB