Package: immApex Version: 1.3.7 Command: /Library/Frameworks/R.framework/Resources/bin/R CMD INSTALL immApex StartedAt: 2025-10-14 15:14:47 -0400 (Tue, 14 Oct 2025) EndedAt: 2025-10-14 15:15:01 -0400 (Tue, 14 Oct 2025) EllapsedTime: 14.2 seconds RetCode: 0 Status: OK