Package: immApex Version: 1.3.7 Command: /Library/Frameworks/R.framework/Resources/bin/R CMD build --keep-empty-dirs --no-resave-data immApex StartedAt: 2025-10-14 16:43:44 -0400 (Tue, 14 Oct 2025) EndedAt: 2025-10-14 16:44:19 -0400 (Tue, 14 Oct 2025) EllapsedTime: 35.4 seconds RetCode: 0 Status: OK PackageFile: immApex_1.3.7.tar.gz PackageFileSize: 2.362 MiB