Package: immApex Version: 1.3.7 Command: rm -rf immApex.buildbin-libdir && mkdir immApex.buildbin-libdir && /Users/biocbuild/BBS/utils/build-universal.sh immApex_1.3.7.tar.gz /Library/Frameworks/R.framework/Resources/bin/R immApex.buildbin-libdir StartedAt: 2025-10-14 23:25:28 -0400 (Tue, 14 Oct 2025) EndedAt: 2025-10-14 23:25:43 -0400 (Tue, 14 Oct 2025) EllapsedTime: 15.3 seconds RetCode: 0 Status: OK PackageFile: immApex_1.3.7.tgz PackageFileSize: 2.414 MiB