Package: imcRtools Version: 1.17.0 Command: /home/biocbuild/bbs-3.23-bioc/R/bin/R CMD INSTALL imcRtools StartedAt: 2025-11-05 15:43:31 -0500 (Wed, 05 Nov 2025) EndedAt: 2025-11-05 15:44:28 -0500 (Wed, 05 Nov 2025) EllapsedTime: 57.3 seconds RetCode: 0 Status: OK