Package: imcRtools Version: 1.17.0 Command: /home/biocbuild/bbs-3.23-bioc/R/bin/R CMD build --keep-empty-dirs --no-resave-data imcRtools StartedAt: 2025-11-05 18:12:59 -0500 (Wed, 05 Nov 2025) EndedAt: 2025-11-05 18:17:01 -0500 (Wed, 05 Nov 2025) EllapsedTime: 242.2 seconds RetCode: 0 Status: OK PackageFile: imcRtools_1.17.0.tar.gz PackageFileSize: 9.426 MiB