Package: imcRtools Version: 1.15.4 Command: /Library/Frameworks/R.framework/Resources/bin/R CMD INSTALL imcRtools StartedAt: 2025-10-14 15:14:44 -0400 (Tue, 14 Oct 2025) EndedAt: 2025-10-14 15:15:07 -0400 (Tue, 14 Oct 2025) EllapsedTime: 22.7 seconds RetCode: 0 Status: OK