Package: imcRtools Version: 1.15.4 Command: /Library/Frameworks/R.framework/Resources/bin/R CMD build --keep-empty-dirs --no-resave-data imcRtools StartedAt: 2025-10-13 16:44:21 -0400 (Mon, 13 Oct 2025) EndedAt: 2025-10-13 16:45:50 -0400 (Mon, 13 Oct 2025) EllapsedTime: 88.9 seconds RetCode: 0 Status: OK PackageFile: imcRtools_1.15.4.tar.gz PackageFileSize: 10.33 MiB