Package: imageTCGA Version: 1.1.1 Command: /home/biocbuild/R/R/bin/R CMD INSTALL imageTCGA StartedAt: 2025-10-20 20:22:20 -0000 (Mon, 20 Oct 2025) EndedAt: 2025-10-20 20:22:52 -0000 (Mon, 20 Oct 2025) EllapsedTime: 31.9 seconds RetCode: 0 Status: OK