Package: imageTCGA Version: 1.1.1 Command: /home/biocbuild/R/R/bin/R CMD build --keep-empty-dirs --no-resave-data imageTCGA StartedAt: 2025-10-21 00:34:25 -0000 (Tue, 21 Oct 2025) EndedAt: 2025-10-21 00:34:44 -0000 (Tue, 21 Oct 2025) EllapsedTime: 19.0 seconds RetCode: 0 Status: OK PackageFile: imageTCGA_1.1.1.tar.gz PackageFileSize: 2.669 MiB