Package: imageTCGA Version: 1.1.0 Command: chmod a+r imageTCGA -R && F:\biocbuild\bbs-3.22-bioc\R\bin\R.exe CMD build --keep-empty-dirs --no-resave-data imageTCGA StartedAt: 2025-08-14 20:54:07 -0400 (Thu, 14 Aug 2025) EndedAt: 2025-08-14 20:54:43 -0400 (Thu, 14 Aug 2025) EllapsedTime: 36.6 seconds RetCode: 0 Status: OK PackageFile: imageTCGA_1.1.0.tar.gz PackageFileSize: 2.604 MiB