Package: imageTCGA Version: 1.1.0 Command: rm -rf imageTCGA.buildbin-libdir && mkdir imageTCGA.buildbin-libdir && F:\biocbuild\bbs-3.22-bioc\R\bin\R.exe CMD INSTALL --build --library=imageTCGA.buildbin-libdir imageTCGA_1.1.0.tar.gz StartedAt: 2025-08-15 10:30:06 -0400 (Fri, 15 Aug 2025) EndedAt: 2025-08-15 10:30:30 -0400 (Fri, 15 Aug 2025) EllapsedTime: 24.5 seconds RetCode: 0 Status: OK PackageFile: imageTCGA_1.1.0.zip PackageFileSize: 1.833 MiB