Package: imageTCGA Version: 1.1.0 Command: /home/biocbuild/bbs-3.22-bioc/R/bin/R CMD check --install=check:imageTCGA.install-out.txt --library=/home/biocbuild/bbs-3.22-bioc/R/site-library --timings imageTCGA_1.1.0.tar.gz StartedAt: 2025-10-11 01:04:20 -0400 (Sat, 11 Oct 2025) EndedAt: 2025-10-11 01:05:13 -0400 (Sat, 11 Oct 2025) EllapsedTime: 53.0 seconds RetCode: 0 Status: OK CheckDir: imageTCGA.Rcheck Warnings: 0