Package: imageTCGA Version: 1.3.0 Command: /home/biocbuild/bbs-3.23-bioc/R/bin/R CMD INSTALL imageTCGA StartedAt: 2025-11-20 15:10:32 -0500 (Thu, 20 Nov 2025) EndedAt: 2025-11-20 15:10:39 -0500 (Thu, 20 Nov 2025) EllapsedTime: 6.9 seconds RetCode: 0 Status: OK