Package: imageTCGA Version: 1.3.0 Command: /home/biocbuild/bbs-3.23-bioc/R/bin/R CMD check --install=check:imageTCGA.install-out.txt --library=/home/biocbuild/bbs-3.23-bioc/R/site-library --timings imageTCGA_1.3.0.tar.gz StartedAt: 2025-11-21 00:36:01 -0500 (Fri, 21 Nov 2025) EndedAt: 2025-11-21 00:36:56 -0500 (Fri, 21 Nov 2025) EllapsedTime: 55.1 seconds RetCode: 0 Status: OK CheckDir: imageTCGA.Rcheck Warnings: 0