Package: igvShiny Version: 1.7.0 Command: /home/biocbuild/bbs-3.23-bioc/R/bin/R CMD build --keep-empty-dirs --no-resave-data igvShiny StartedAt: 2025-11-20 18:10:23 -0500 (Thu, 20 Nov 2025) EndedAt: 2025-11-20 18:10:44 -0500 (Thu, 20 Nov 2025) EllapsedTime: 21.0 seconds RetCode: 0 Status: OK PackageFile: igvShiny_1.7.0.tar.gz PackageFileSize: 4.22 MiB