Package: igvShiny Version: 1.5.0 Command: /Library/Frameworks/R.framework/Resources/bin/R CMD INSTALL igvShiny StartedAt: 2025-10-14 15:18:32 -0400 (Tue, 14 Oct 2025) EndedAt: 2025-10-14 15:18:52 -0400 (Tue, 14 Oct 2025) EllapsedTime: 19.4 seconds RetCode: 0 Status: OK