Package: igvShiny Version: 1.5.0 Command: rm -rf igvShiny.buildbin-libdir && mkdir igvShiny.buildbin-libdir && /Users/biocbuild/BBS/utils/build-universal.sh igvShiny_1.5.0.tar.gz /Library/Frameworks/R.framework/Resources/bin/R igvShiny.buildbin-libdir StartedAt: 2025-10-15 02:49:39 -0400 (Wed, 15 Oct 2025) EndedAt: 2025-10-15 02:50:01 -0400 (Wed, 15 Oct 2025) EllapsedTime: 22.0 seconds RetCode: 0 Status: OK PackageFile: igvShiny_1.5.0.tgz PackageFileSize: 4.302 MiB