Package: igvShiny Version: 1.7.0 Maintainer: Arkadiusz Gladki MaintainerEmail: gladki.arkadiusz at gmail.com git_url: https://git.bioconductor.org/packages/igvShiny git_branch: devel git_last_commit: bda3441 git_last_commit_date: 2025-10-29 11:27:34 -0400 (Wed, 29 Oct 2025)