Package: igvR Version: 1.31.0 Command: /home/biocbuild/bbs-3.23-bioc/R/bin/R CMD INSTALL igvR StartedAt: 2025-11-20 16:00:38 -0500 (Thu, 20 Nov 2025) EndedAt: 2025-11-20 16:01:18 -0500 (Thu, 20 Nov 2025) EllapsedTime: 39.6 seconds RetCode: 0 Status: OK