Package: igvR Version: 1.31.0 Command: /Library/Frameworks/R.framework/Resources/bin/R CMD INSTALL igvR StartedAt: 2025-11-20 15:55:49 -0500 (Thu, 20 Nov 2025) EndedAt: 2025-11-20 15:56:36 -0500 (Thu, 20 Nov 2025) EllapsedTime: 46.7 seconds RetCode: 0 Status: OK