Package: igvR Version: 1.31.0 Command: /Library/Frameworks/R.framework/Resources/bin/R CMD build --keep-empty-dirs --no-resave-data igvR StartedAt: 2025-11-20 17:23:59 -0500 (Thu, 20 Nov 2025) EndedAt: 2025-11-20 17:25:12 -0500 (Thu, 20 Nov 2025) EllapsedTime: 73.3 seconds RetCode: 0 Status: OK PackageFile: igvR_1.31.0.tar.gz PackageFileSize: 8.592 MiB