Package: igvR Version: 1.31.0 Command: rm -rf igvR.buildbin-libdir && mkdir igvR.buildbin-libdir && /Users/biocbuild/BBS/utils/build-universal.sh igvR_1.31.0.tar.gz /Library/Frameworks/R.framework/Resources/bin/R igvR.buildbin-libdir StartedAt: 2025-11-21 01:38:51 -0500 (Fri, 21 Nov 2025) EndedAt: 2025-11-21 01:39:56 -0500 (Fri, 21 Nov 2025) EllapsedTime: 64.7 seconds RetCode: 0 Status: OK PackageFile: igvR_1.31.0.tgz PackageFileSize: 6.392 MiB