Package: igvR Version: 1.29.0 Command: /Library/Frameworks/R.framework/Resources/bin/R CMD build --keep-empty-dirs --no-resave-data igvR StartedAt: 2025-10-19 16:43:07 -0400 (Sun, 19 Oct 2025) EndedAt: 2025-10-19 16:43:29 -0400 (Sun, 19 Oct 2025) EllapsedTime: 22.3 seconds RetCode: 0 Status: OK PackageFile: igvR_1.29.0.tar.gz PackageFileSize: 8.593 MiB