Package: igblastr Version: 0.99.22 Command: /Library/Frameworks/R.framework/Resources/bin/R CMD INSTALL igblastr StartedAt: 2025-10-12 15:30:36 -0400 (Sun, 12 Oct 2025) EndedAt: 2025-10-12 15:30:57 -0400 (Sun, 12 Oct 2025) EllapsedTime: 20.8 seconds RetCode: 0 Status: OK