Package: igblastr Version: 0.99.22 Command: /Library/Frameworks/R.framework/Resources/bin/R CMD build --keep-empty-dirs --no-resave-data igblastr StartedAt: 2025-10-12 17:33:04 -0400 (Sun, 12 Oct 2025) EndedAt: 2025-10-12 17:40:09 -0400 (Sun, 12 Oct 2025) EllapsedTime: 425.2 seconds RetCode: 0 Status: OK PackageFile: igblastr_0.99.22.tar.gz PackageFileSize: 4.111 MiB