Package: igblastr Version: 0.99.22 Command: rm -rf igblastr.buildbin-libdir && mkdir igblastr.buildbin-libdir && /Users/biocbuild/BBS/utils/build-universal.sh igblastr_0.99.22.tar.gz /Library/Frameworks/R.framework/Resources/bin/R igblastr.buildbin-libdir StartedAt: 2025-10-13 02:38:07 -0400 (Mon, 13 Oct 2025) EndedAt: 2025-10-13 02:38:34 -0400 (Mon, 13 Oct 2025) EllapsedTime: 26.8 seconds RetCode: 0 Status: OK PackageFile: igblastr_0.99.22.tgz PackageFileSize: 4.456 MiB