Package: igblastr Version: 0.99.22 Maintainer: Hervé Pagès MaintainerEmail: hpages.on.github at gmail.com git_url: https://git.bioconductor.org/packages/igblastr git_branch: devel git_last_commit: 48ab942 git_last_commit_date: 2025-10-08 03:00:07 -0400 (Wed, 08 Oct 2025)