Package: idr2d Version: 1.25.0 Command: /home/biocbuild/bbs-3.23-bioc/R/bin/R CMD INSTALL idr2d StartedAt: 2025-11-06 15:30:57 -0500 (Thu, 06 Nov 2025) EndedAt: 2025-11-06 15:31:11 -0500 (Thu, 06 Nov 2025) EllapsedTime: 14.8 seconds RetCode: 0 Status: OK