Package: idr2d Version: 1.25.0 Command: /home/biocbuild/bbs-3.23-bioc/R/bin/R CMD build --keep-empty-dirs --no-resave-data idr2d StartedAt: 2025-11-06 18:04:55 -0500 (Thu, 06 Nov 2025) EndedAt: 2025-11-06 18:05:27 -0500 (Thu, 06 Nov 2025) EllapsedTime: 32.0 seconds RetCode: 0 Status: OK PackageFile: idr2d_1.25.0.tar.gz PackageFileSize: 1.497 MiB