Package: idr2d Version: 1.23.1 Command: /Library/Frameworks/R.framework/Resources/bin/R CMD INSTALL idr2d StartedAt: 2025-10-14 15:30:54 -0400 (Tue, 14 Oct 2025) EndedAt: 2025-10-14 15:31:16 -0400 (Tue, 14 Oct 2025) EllapsedTime: 21.9 seconds RetCode: 0 Status: OK