Package: idr2d Version: 1.23.1 Command: rm -rf idr2d.buildbin-libdir && mkdir idr2d.buildbin-libdir && /Users/biocbuild/BBS/utils/build-universal.sh idr2d_1.23.1.tar.gz /Library/Frameworks/R.framework/Resources/bin/R idr2d.buildbin-libdir StartedAt: 2025-10-15 02:49:34 -0400 (Wed, 15 Oct 2025) EndedAt: 2025-10-15 02:50:02 -0400 (Wed, 15 Oct 2025) EllapsedTime: 27.8 seconds RetCode: 0 Status: OK PackageFile: idr2d_1.23.1.tgz PackageFileSize: 1.769 MiB