Package: idpr Version: 1.21.0 Command: /home/biocbuild/bbs-3.23-bioc/R/bin/R CMD INSTALL idpr StartedAt: 2025-11-20 15:31:21 -0500 (Thu, 20 Nov 2025) EndedAt: 2025-11-20 15:31:26 -0500 (Thu, 20 Nov 2025) EllapsedTime: 5.3 seconds RetCode: 0 Status: OK