Package: idpr Version: 1.19.0 Command: /Library/Frameworks/R.framework/Resources/bin/R CMD INSTALL idpr StartedAt: 2025-10-20 15:28:33 -0400 (Mon, 20 Oct 2025) EndedAt: 2025-10-20 15:28:41 -0400 (Mon, 20 Oct 2025) EllapsedTime: 8.5 seconds RetCode: 0 Status: OK