Package: idpr Version: 1.19.0 Command: /Library/Frameworks/R.framework/Resources/bin/R CMD build --keep-empty-dirs --no-resave-data idpr StartedAt: 2025-10-20 17:38:03 -0400 (Mon, 20 Oct 2025) EndedAt: 2025-10-20 17:39:44 -0400 (Mon, 20 Oct 2025) EllapsedTime: 101.0 seconds RetCode: 0 Status: OK PackageFile: idpr_1.19.0.tar.gz PackageFileSize: 3.611 MiB